BEGIN:VCALENDAR
VERSION:2.0
PRODID:-//CODA Tech Square - ECPv6.15.15//NONSGML v1.0//EN
CALSCALE:GREGORIAN
METHOD:PUBLISH
X-WR-CALNAME:CODA Tech Square
X-ORIGINAL-URL:https://codatechsquare.com
X-WR-CALDESC:Events for CODA Tech Square
REFRESH-INTERVAL;VALUE=DURATION:PT1H
X-Robots-Tag:noindex
X-PUBLISHED-TTL:PT1H
BEGIN:VTIMEZONE
TZID:America/New_York
BEGIN:DAYLIGHT
TZOFFSETFROM:-0500
TZOFFSETTO:-0400
TZNAME:EDT
DTSTART:20240310T070000
END:DAYLIGHT
BEGIN:STANDARD
TZOFFSETFROM:-0400
TZOFFSETTO:-0500
TZNAME:EST
DTSTART:20241103T060000
END:STANDARD
BEGIN:DAYLIGHT
TZOFFSETFROM:-0500
TZOFFSETTO:-0400
TZNAME:EDT
DTSTART:20250309T070000
END:DAYLIGHT
BEGIN:STANDARD
TZOFFSETFROM:-0400
TZOFFSETTO:-0500
TZNAME:EST
DTSTART:20251102T060000
END:STANDARD
BEGIN:DAYLIGHT
TZOFFSETFROM:-0500
TZOFFSETTO:-0400
TZNAME:EDT
DTSTART:20260308T070000
END:DAYLIGHT
BEGIN:STANDARD
TZOFFSETFROM:-0400
TZOFFSETTO:-0500
TZNAME:EST
DTSTART:20261101T060000
END:STANDARD
END:VTIMEZONE
BEGIN:VEVENT
DTSTART;TZID=America/New_York:20250404T180000
DTEND;TZID=America/New_York:20250425T200000
DTSTAMP:20260421T103154
CREATED:20250401T202145Z
LAST-MODIFIED:20250401T202258Z
UID:4379-1743789600-1745611200@codatechsquare.com
SUMMARY:Live Music Fridays at Coda
DESCRIPTION:Join Velvet Residence for a series of intimate live music performances every Friday in April\, happening from 6 PM to 8 PM in Coda’s picturesque courtyard. Enjoy a curated selection of talented musicians\, creating the perfect ambiance for your evening. Whether you’re unwinding after a busy week or meeting friends\, the serene outdoor setting and soulful tunes are sure to elevate your Friday nights. Don’t miss out on this unique opportunity to experience the best of live music in a cozy\, open-air venue. \n \n  \n  \n  \n  \n  \n  \n  \n  \n 
URL:https://codatechsquare.com/event/live-music-fridays-at-coda/
LOCATION:The Collective Food Hall\, 756 W Peachtree St NW\, Atlanta\, GA\, 30308\, United States
ATTACH;FMTTYPE=image/png:https://codatechsquare.com/wp-content/uploads/2025/04/Live-Music-2720-×-480-px-Instagram-Post.png
END:VEVENT
BEGIN:VEVENT
DTSTART;TZID=America/New_York:20250429T180000
DTEND;TZID=America/New_York:20250530T190000
DTSTAMP:20260421T103154
CREATED:20250429T170959Z
LAST-MODIFIED:20250429T171852Z
UID:4387-1745949600-1748631600@codatechsquare.com
SUMMARY:Yoga on Coda Rooftop
DESCRIPTION:Free Rooftop Yoga at Coda – Every Wednesday Evening!Join us for Yoga on the Rooftop at Coda\, a free weekly event offering an unforgettable outdoor yoga experience in the heart of the city. Held every Wednesday from 6 PM to 7 PM through the end of May\, this open-level class is the perfect midweek reset. Breathe deeply\, move mindfully\, and soak in stunning skyline views as you flow under the open sky. \nWhat to bring: Your own yoga mat\, water\, and good vibes.Location: Coda Rooftop – [insert address or location details if needed].Cost: FREE – no registration required! \nWhether you’re a seasoned yogi or just getting started\, all are welcome. Come elevate your practice—literally!
URL:https://codatechsquare.com/event/yoga-on-coda-rooftop/
LOCATION:Coda Tech Square\, 756 W Peachtree St NW\, Marietta\, GA\, 30308-1118\, United States
END:VEVENT
END:VCALENDAR