BEGIN:VCALENDAR
VERSION:2.0
PRODID:-//CODA Tech Square - ECPv6.15.15//NONSGML v1.0//EN
CALSCALE:GREGORIAN
METHOD:PUBLISH
X-WR-CALNAME:CODA Tech Square
X-ORIGINAL-URL:https://codatechsquare.com
X-WR-CALDESC:Events for CODA Tech Square
REFRESH-INTERVAL;VALUE=DURATION:PT1H
X-Robots-Tag:noindex
X-PUBLISHED-TTL:PT1H
BEGIN:VTIMEZONE
TZID:America/New_York
BEGIN:DAYLIGHT
TZOFFSETFROM:-0500
TZOFFSETTO:-0400
TZNAME:EDT
DTSTART:20210314T070000
END:DAYLIGHT
BEGIN:STANDARD
TZOFFSETFROM:-0400
TZOFFSETTO:-0500
TZNAME:EST
DTSTART:20211107T060000
END:STANDARD
BEGIN:DAYLIGHT
TZOFFSETFROM:-0500
TZOFFSETTO:-0400
TZNAME:EDT
DTSTART:20220313T070000
END:DAYLIGHT
BEGIN:STANDARD
TZOFFSETFROM:-0400
TZOFFSETTO:-0500
TZNAME:EST
DTSTART:20221106T060000
END:STANDARD
BEGIN:DAYLIGHT
TZOFFSETFROM:-0500
TZOFFSETTO:-0400
TZNAME:EDT
DTSTART:20230312T070000
END:DAYLIGHT
BEGIN:STANDARD
TZOFFSETFROM:-0400
TZOFFSETTO:-0500
TZNAME:EST
DTSTART:20231105T060000
END:STANDARD
BEGIN:DAYLIGHT
TZOFFSETFROM:-0500
TZOFFSETTO:-0400
TZNAME:EDT
DTSTART:20240310T070000
END:DAYLIGHT
BEGIN:STANDARD
TZOFFSETFROM:-0400
TZOFFSETTO:-0500
TZNAME:EST
DTSTART:20241103T060000
END:STANDARD
BEGIN:DAYLIGHT
TZOFFSETFROM:-0500
TZOFFSETTO:-0400
TZNAME:EDT
DTSTART:20250309T070000
END:DAYLIGHT
BEGIN:STANDARD
TZOFFSETFROM:-0400
TZOFFSETTO:-0500
TZNAME:EST
DTSTART:20251102T060000
END:STANDARD
BEGIN:DAYLIGHT
TZOFFSETFROM:-0500
TZOFFSETTO:-0400
TZNAME:EDT
DTSTART:20260308T070000
END:DAYLIGHT
BEGIN:STANDARD
TZOFFSETFROM:-0400
TZOFFSETTO:-0500
TZNAME:EST
DTSTART:20261101T060000
END:STANDARD
END:VTIMEZONE
BEGIN:VEVENT
DTSTART;VALUE=DATE:20250321
DTEND;VALUE=DATE:20250408
DTSTAMP:20260421T104753
CREATED:20250321T172711Z
LAST-MODIFIED:20250401T203039Z
UID:4374-1742515200-1744070399@codatechsquare.com
SUMMARY:Join the Madness! - March Madness Bracket Contest
DESCRIPTION:Join Coda’s 2025 March Madness Bracket Challenge for a chance to win the ultimate gift basket full of prizes! \nPredictions due by March 28\, 2025\, by 5PM to enter.  \nFollow the QR to enter your bracket. \nNo purchase necessary.   \nJoin the excitement of March Madness with our Bracket Contest! This is the perfect opportunity to showcase your basketball knowledge and compete for amazing prizes. Whether you’re a seasoned expert or a casual fan\, filling out your March Madness bracket is easy and fun. Our contest offers a user-friendly platform to submit your picks for the NCAA tournament\, track your progress\, and see how you stack up against other participants. Don’t miss out on the chance to join in the thrilling action of March Madness – sign up today and start making your predictions for this year’s tournament! \nYou can catch all the games on the Big Screen outside the Collective Food Hall.  \n  \n 
URL:https://codatechsquare.com/event/join-the-madness-march-madness-bracket-contest/
LOCATION:Coda Tech Square\, 756 W Peachtree St NW\, Marietta\, GA\, 30308-1118\, United States
ATTACH;FMTTYPE=image/png:https://codatechsquare.com/wp-content/uploads/2025/03/MARCH-MADNESS-2025-1080-x-1350-px.png
END:VEVENT
BEGIN:VEVENT
DTSTART;TZID=America/New_York:20250306T180000
DTEND;TZID=America/New_York:20250327T210000
DTSTAMP:20260421T104753
CREATED:20250304T173348Z
LAST-MODIFIED:20250321T163631Z
UID:4369-1741284000-1743109200@codatechsquare.com
SUMMARY:Karaoke Thursdays in March
DESCRIPTION:Join us every Thursday in March for karaoke on the big screen. \nWhere: Collective Food Hall Courtyard – Rain or Shine  \nWhen: 6pm-9pm \nWhat: From Broadway tunes to Taylor Swift\, the music selections are endless. \nWho: Bring your co-workers and friends for some after work fun. \nAll singing abilities welcomed 😉 \n  \nhttps://codatechsquare.com/wp-content/uploads/2025/03/Karaoke-Banner-1080-x-1350-px.mp4
URL:https://codatechsquare.com/event/king-size-karaoke-in-march/
LOCATION:The Collective Food Hall\, 756 W Peachtree St NW\, Atlanta\, GA\, 30308\, United States
ATTACH;FMTTYPE=image/png:https://codatechsquare.com/wp-content/uploads/2025/03/karaoke-night-flyer-2025.png
END:VEVENT
BEGIN:VEVENT
DTSTART;TZID=America/New_York:20240719T170000
DTEND;TZID=America/New_York:20240719T210000
DTSTAMP:20260421T104753
CREATED:20240718T173334Z
LAST-MODIFIED:20240718T173536Z
UID:4350-1721408400-1721422800@codatechsquare.com
SUMMARY:Be Happy Day Party - July 19
DESCRIPTION:  \nDJ Lineup: \n@seanfalyon\n@djbrixla\n@weirdofits\n@ill_wink
URL:https://codatechsquare.com/event/be-happy-day-party-july-19/
LOCATION:The Collective Food Hall\, 756 W Peachtree St NW\, Atlanta\, GA\, 30308\, United States
END:VEVENT
BEGIN:VEVENT
DTSTART;TZID=America/New_York:20240718T080000
DTEND;TZID=America/New_York:20240718T170000
DTSTAMP:20260421T104753
CREATED:20240718T184336Z
LAST-MODIFIED:20240718T185106Z
UID:4353-1721289600-1721322000@codatechsquare.com
SUMMARY:Coda Blood Drive 7.31.24
DESCRIPTION:Wednesday\, July 31\, 2024 \n10am to 3pm \nRoom 230 \n \nScan for an appointment! \nFor an appointment\, please visit redcrossblood.org and \nenter sponsor code: CODA; Or call 1-800-RED CROSS (1-800-733-2767). \nPlease eat a good meal and drink plenty of fluids prior to your donation. \nGive blood in July for a Fandango Movie Ticket by email to see TWISTERS on us! rcblood.org/Twisters \n 
URL:https://codatechsquare.com/event/coda-blood-drive-7-31-24/
LOCATION:GA
END:VEVENT
BEGIN:VEVENT
DTSTART;TZID=America/New_York:20240220T120000
DTEND;TZID=America/New_York:20240420T180000
DTSTAMP:20260421T104753
CREATED:20240222T174132Z
LAST-MODIFIED:20240222T174133Z
UID:4332-1708430400-1713636000@codatechsquare.com
SUMMARY:* New Pop-Up in the Collective* Top it OFF Funnel Cakes
DESCRIPTION:Top it OFF Funnel Cakes has arrived in the Collective Food Hall \nCome in today to enjoy the delicious funnel cake that you know and love\, but with all the fixings! Top it OFF’s delicious funnel cake menu includes a variety of flavors from the “Plain Jane” funnel cake to “Strawberry Shortcake” to “Cotton Candy\,” and everything in between. They also have a “Cereal” menu based on popular breakfast cereal types like Apple Jacks\, Fruit Loops\, Cocoa Puffs\, and Trix! Their menu is designed to tempt the taste buds of all ages! \nEnjoy decadent funnel cake on Tuesdays\, Wednesdays and Fridays\, from 12pm to 6pm\, in the Collective Food Hall (next to Aviva) until April 20\, 2024. Top it OFF is also available to cater your next event. \n 
URL:https://codatechsquare.com/event/new-pop-up-in-the-collective-top-it-off-funnel-cakes/
LOCATION:The Collective Food Hall\, 756 W Peachtree St NW\, Atlanta\, GA\, 30308\, United States
ATTACH;FMTTYPE=image/png:https://codatechsquare.com/wp-content/uploads/2024/02/Copy-of-Tenant-Appreciation-3.png
END:VEVENT
BEGIN:VEVENT
DTSTART;TZID=America/New_York:20240205T190000
DTEND;TZID=America/New_York:20240205T210000
DTSTAMP:20260421T104753
CREATED:20240205T154402Z
LAST-MODIFIED:20240222T164250Z
UID:4328-1707159600-1707166800@codatechsquare.com
SUMMARY:Facts Only Trivia Returns in 2024
DESCRIPTION:  \n  \nJoin us on Tuesday\, February 20\, 2024\, in the Collective Food Hall as we enjoy music\, hip-hop trivia\, good food\, and drinks. Registration is free! Bring your friends\, family and co-workers for some weeknight fun! The fun begins at 7pm. Parking will be validated if you park in Coda’s underground garage (entrance on 4th street). Enjoy good eats from El Burro Pollo\, Poke Burri\, SmoQ’n Hot Grill\, Aviva by Kameel and beverages from By Weight & Measure. \n  \nRegister Here 
URL:https://codatechsquare.com/event/facts-only-trivia-2-20-24/
LOCATION:GA
ATTACH;FMTTYPE=image/jpeg:https://codatechsquare.com/wp-content/uploads/2024/02/facst-only-2_20_24.jpg
END:VEVENT
BEGIN:VEVENT
DTSTART;TZID=America/New_York:20231201T200000
DTEND;TZID=America/New_York:20231202T200000
DTSTAMP:20260421T104753
CREATED:20231129T210206Z
LAST-MODIFIED:20231129T210540Z
UID:4317-1701460800-1701547200@codatechsquare.com
SUMMARY:Title Game Match-Ups on the Big Screen
DESCRIPTION:
URL:https://codatechsquare.com/event/title-game-match-ups-on-the-big-screen/
LOCATION:The Collective Food Hall\, 756 W Peachtree St NW\, Atlanta\, GA\, 30308\, United States
ATTACH;FMTTYPE=image/png:https://codatechsquare.com/wp-content/uploads/2023/11/1.png
END:VEVENT
BEGIN:VEVENT
DTSTART;TZID=America/New_York:20231112T180000
DTEND;TZID=America/New_York:20231112T213000
DTSTAMP:20260421T104753
CREATED:20231110T221102Z
LAST-MODIFIED:20231110T221338Z
UID:4309-1699812000-1699824600@codatechsquare.com
SUMMARY:2023 MLS Playoffs Watch Party - Atlanta United Round-1\, Game-3
DESCRIPTION:Don’t Doubt Atlanta Watch Party ? ⚫\n\n\nGet hype and join us at CODA Tech Square in Midtown to watch as Atlanta United takes on Columbus Crew for Game 3 in the Round One Best-of-3 series in the Audi 2023 MLS Cup Playoffs. Watch party begins at 6:00pm with kickoff on the BIG screen at 7:00 p.m.! \n\n\nAdditional details below: \n\n\nDate: Sunday\, Nov. 12\, 2023 \n\n\nTime: 6:00-9:00 p.m. (Kickoff at 7:00 p.m.) \n\n\nLocation: CODA Tech Square – 756 W Peachtree St NW\, Atlanta\, GA 30308 \n\n\nParking: Paid parking is available at CODA Tech Square\, but MARTA and Rideshare are highly encouraged! \n\n\nWhat to wear: Your best Atlanta United gear! \n\n\nWhat else to expect: Photo opportunities\, games\, raffles and much more! Food and drink will be available for purchase. All ages welcome.
URL:https://codatechsquare.com/event/2023-mls-playoffs-watch-party-atlanta-united-round-1-game-3/
LOCATION:The Collective Food Hall\, 756 W Peachtree St NW\, Atlanta\, GA\, 30308\, United States
ATTACH;FMTTYPE=image/jpeg:https://codatechsquare.com/wp-content/uploads/2023/11/Watch-Party-V3_1080x1350_flyer.jpg
END:VEVENT
BEGIN:VEVENT
DTSTART;TZID=America/New_York:20231101T183000
DTEND;TZID=America/New_York:20231101T213000
DTSTAMP:20260421T104753
CREATED:20231030T165321Z
LAST-MODIFIED:20231030T165321Z
UID:4305-1698863400-1698874200@codatechsquare.com
SUMMARY:Don't Doubt Atlanta Watch Party
DESCRIPTION:Don’t Doubt Atlanta Watch Party ? ⚫ \n\nGet hype and join us at CODA Tech Square in Midtown to watch Atlanta United face-off against Columbus Crew in the Audi 2023 MLS Cup Playoffs. \nWatch party begins at 6:30pm with kickoff on the BIG screen at 7:30 p.m.! \n\n\nAdditional details below: \n\n\nDate: Wednesday\, Nov. 1\, 2023 \n\n\nTime: 6:30-9:30 p.m. (Kickoff at 7:30 p.m.) \n\n\nLocation: CODA Tech Square – 756 W Peachtree St NW\, Atlanta\, GA 30308 \n\n\nParking: Paid parking is available at CODA Tech Square\, but MARTA and Rideshare are highly encouraged! \n\n\nWhat to wear: Your best Atlanta United gear! \n\n\nWhat else to expect: Photo opportunities\, games\, raffles and much more! Food and drink will be available for purchase. All ages welcome.
URL:https://codatechsquare.com/event/dont-doubt-atlanta-watch-party/
LOCATION:The Collective Food Hall\, 756 W Peachtree St NW\, Atlanta\, GA\, 30308\, United States
ATTACH;FMTTYPE=image/jpeg:https://codatechsquare.com/wp-content/uploads/2023/10/Watch-Party-V1_1080x1080.jpg
END:VEVENT
BEGIN:VEVENT
DTSTART;TZID=America/New_York:20230414T180000
DTEND;TZID=America/New_York:20230414T200000
DTSTAMP:20260421T104753
CREATED:20230404T215759Z
LAST-MODIFIED:20230404T215759Z
UID:4303-1681495200-1681502400@codatechsquare.com
SUMMARY:Bloom Music Fridays
DESCRIPTION:
URL:https://codatechsquare.com/event/bloom-music-fridays-2/
LOCATION:The Collective Food Hall\, 756 W Peachtree St NW\, Atlanta\, GA\, 30308\, United States
ATTACH;FMTTYPE=image/jpeg:https://codatechsquare.com/wp-content/uploads/2023/02/coda-gallery-32x.jpg
END:VEVENT
BEGIN:VEVENT
DTSTART;TZID=America/New_York:20230407T180000
DTEND;TZID=America/New_York:20230407T200000
DTSTAMP:20260421T104753
CREATED:20221223T082905Z
LAST-MODIFIED:20230404T215918Z
UID:4251-1680890400-1680897600@codatechsquare.com
SUMMARY:Bloom Music Fridays
DESCRIPTION:
URL:https://codatechsquare.com/event/bloom-music-fridays/
LOCATION:The Collective Food Hall\, 756 W Peachtree St NW\, Atlanta\, GA\, 30308\, United States
ATTACH;FMTTYPE=image/jpeg:https://codatechsquare.com/wp-content/uploads/2021/07/5.28-Plaza-Music-2-scaled.jpg
END:VEVENT
BEGIN:VEVENT
DTSTART;TZID=America/New_York:20230118T193000
DTEND;TZID=America/New_York:20230118T193000
DTSTAMP:20260421T104753
CREATED:20221223T081745Z
LAST-MODIFIED:20221223T092222Z
UID:4249-1674070200-1674070200@codatechsquare.com
SUMMARY:Atlanta Hawks @ Dallas Mavericks
DESCRIPTION:
URL:https://codatechsquare.com/event/atlanta-hawks-dallas-mavericks/
LOCATION:The Collective Food Hall\, 756 W Peachtree St NW\, Atlanta\, GA\, 30308\, United States
END:VEVENT
BEGIN:VEVENT
DTSTART;TZID=America/New_York:20230116T153000
DTEND;TZID=America/New_York:20230116T153000
DTSTAMP:20260421T104753
CREATED:20221223T081703Z
LAST-MODIFIED:20221223T092250Z
UID:4247-1673883000-1673883000@codatechsquare.com
SUMMARY:Miami Heat @ Atlanta Hawks
DESCRIPTION:
URL:https://codatechsquare.com/event/miami-heat-atlanta-hawks/
LOCATION:The Collective Food Hall\, 756 W Peachtree St NW\, Atlanta\, GA\, 30308\, United States
END:VEVENT
BEGIN:VEVENT
DTSTART;TZID=America/New_York:20230114T193000
DTEND;TZID=America/New_York:20230114T193000
DTSTAMP:20260421T104753
CREATED:20221223T081619Z
LAST-MODIFIED:20221223T092305Z
UID:4245-1673724600-1673724600@codatechsquare.com
SUMMARY:Atlanta Hawks @ Toronto Raptors
DESCRIPTION:
URL:https://codatechsquare.com/event/atlanta-hawks-toronto-raptors/
LOCATION:The Collective Food Hall\, 756 W Peachtree St NW\, Atlanta\, GA\, 30308\, United States
END:VEVENT
BEGIN:VEVENT
DTSTART;TZID=America/New_York:20230113T190000
DTEND;TZID=America/New_York:20230113T190000
DTSTAMP:20260421T104753
CREATED:20221223T081529Z
LAST-MODIFIED:20221223T092345Z
UID:4243-1673636400-1673636400@codatechsquare.com
SUMMARY:Atlanta Hawks @ Indianapolis Pacers
DESCRIPTION:
URL:https://codatechsquare.com/event/atlanta-hawks-indianapolis-pacers/
LOCATION:The Collective Food Hall\, 756 W Peachtree St NW\, Atlanta\, GA\, 30308\, United States
END:VEVENT
BEGIN:VEVENT
DTSTART;TZID=America/New_York:20230108T223000
DTEND;TZID=America/New_York:20230108T223000
DTSTAMP:20260421T104753
CREATED:20221223T081339Z
LAST-MODIFIED:20221223T092402Z
UID:4239-1673217000-1673217000@codatechsquare.com
SUMMARY:Atlanta Hawks @ Los Angeles Clippers
DESCRIPTION:
URL:https://codatechsquare.com/event/atlanta-hawks-los-angeles-clippers/
LOCATION:The Collective Food Hall\, 756 W Peachtree St NW\, Atlanta\, GA\, 30308\, United States
END:VEVENT
BEGIN:VEVENT
DTSTART;TZID=America/New_York:20230108T130000
DTEND;TZID=America/New_York:20230108T130000
DTSTAMP:20260421T104753
CREATED:20221223T081029Z
LAST-MODIFIED:20221223T092416Z
UID:4229-1673182800-1673182800@codatechsquare.com
SUMMARY:Tampa Bay Buccaneers @ Falcons
DESCRIPTION:
URL:https://codatechsquare.com/event/tampa-bay-buccaneers-falcons/
LOCATION:The Collective Food Hall\, 756 W Peachtree St NW\, Atlanta\, GA\, 30308\, United States
END:VEVENT
BEGIN:VEVENT
DTSTART;TZID=America/New_York:20230106T223000
DTEND;TZID=America/New_York:20230106T223000
DTSTAMP:20260421T104753
CREATED:20221223T081300Z
LAST-MODIFIED:20221223T092434Z
UID:4237-1673044200-1673044200@codatechsquare.com
SUMMARY:Atlanta Hawks @ Los Angeles Lakers
DESCRIPTION:
URL:https://codatechsquare.com/event/atlanta-hawks-los-angeles-lakers/
LOCATION:The Collective Food Hall\, 756 W Peachtree St NW\, Atlanta\, GA\, 30308\, United States
END:VEVENT
BEGIN:VEVENT
DTSTART;TZID=America/New_York:20230104T220000
DTEND;TZID=America/New_York:20230104T220000
DTSTAMP:20260421T104753
CREATED:20221223T081218Z
LAST-MODIFIED:20221223T092449Z
UID:4235-1672869600-1672869600@codatechsquare.com
SUMMARY:Atlanta Hawks @ Sacramento Kings
DESCRIPTION:
URL:https://codatechsquare.com/event/atlanta-hawks-sacramento-kings/
LOCATION:The Collective Food Hall\, 756 W Peachtree St NW\, Atlanta\, GA\, 30308\, United States
END:VEVENT
BEGIN:VEVENT
DTSTART;TZID=America/New_York:20230102T220000
DTEND;TZID=America/New_York:20230102T220000
DTSTAMP:20260421T104753
CREATED:20221223T081144Z
LAST-MODIFIED:20221223T092510Z
UID:4233-1672696800-1672696800@codatechsquare.com
SUMMARY:Atlanta Hawks @ Golden State Warriors
DESCRIPTION:
URL:https://codatechsquare.com/event/atlanta-hawks-golden-state-warriors/
LOCATION:The Collective Food Hall\, 756 W Peachtree St NW\, Atlanta\, GA\, 30308\, United States
END:VEVENT
BEGIN:VEVENT
DTSTART;TZID=America/New_York:20230101T130000
DTEND;TZID=America/New_York:20230101T130000
DTSTAMP:20260421T104753
CREATED:20221223T080950Z
LAST-MODIFIED:20221223T092522Z
UID:4227-1672578000-1672578000@codatechsquare.com
SUMMARY:Arizona Cardinals @ Atlanta Falcons
DESCRIPTION:
URL:https://codatechsquare.com/event/arizona-cardinals-atlanta-falcons/
LOCATION:The Collective Food Hall\, 756 W Peachtree St NW\, Atlanta\, GA\, 30308\, United States
END:VEVENT
BEGIN:VEVENT
DTSTART;TZID=America/New_York:20221231T200000
DTEND;TZID=America/New_York:20221231T200000
DTSTAMP:20260421T104753
CREATED:20221223T081054Z
LAST-MODIFIED:20221223T092532Z
UID:4231-1672516800-1672516800@codatechsquare.com
SUMMARY:Chick-fil-A Bowl – Georgia Bulldogs vs Ohio State Buckeyes
DESCRIPTION:
URL:https://codatechsquare.com/event/chick-fil-a-bowl-georgia-bulldogs-vs-ohio-state-buckeyes/
LOCATION:The Collective Food Hall\, 756 W Peachtree St NW\, Atlanta\, GA\, 30308\, United States
END:VEVENT
BEGIN:VEVENT
DTSTART;TZID=America/New_York:20221223T080000
DTEND;TZID=America/New_York:20221223T170000
DTSTAMP:20260421T104753
CREATED:20221223T090018Z
LAST-MODIFIED:20221223T092541Z
UID:4253-1671782400-1671814800@codatechsquare.com
SUMMARY:Atlanta Falcons @ Baltimore Ravens
DESCRIPTION:
URL:https://codatechsquare.com/event/atlanta-falcons-baltimore-ravens/
LOCATION:The Collective Food Hall\, 756 W Peachtree St NW\, Atlanta\, GA\, 30308\, United States
END:VEVENT
END:VCALENDAR